BEGIN:VCALENDAR
VERSION:2.0
PRODID:-//audubon-omaha.org//NONSGML kigkonsult.se iCalcreator 2.30.10//
CALSCALE:GREGORIAN
METHOD:PUBLISH
UID:afbc1fbe-a4b3-4196-9433-a4ef76ccf572
X-WR-CALDESC:\n
X-WR-RELCALID:7d6273440b1361bcd5eb79643b3c4e93
X-WR-TIMEZONE:America/Chicago
BEGIN:VTIMEZONE
TZID:America/Chicago
BEGIN:STANDARD
TZNAME:CST
DTSTART:20191103T020000
TZOFFSETFROM:-0500
TZOFFSETTO:-0600
RDATE:20201101T020000
RDATE:20211107T020000
END:STANDARD
BEGIN:DAYLIGHT
TZNAME:CDT
DTSTART:20200308T020000
TZOFFSETFROM:-0600
TZOFFSETTO:-0500
RDATE:20210314T020000
END:DAYLIGHT
END:VTIMEZONE
BEGIN:VEVENT
UID:56e7ee7f-84ab-41f8-84f6-49aabc4d2271
DTSTAMP:20260424T054735Z
DESCRIPTION:\n
DTSTART;TZID=America/Chicago:20200514T180000
DTEND;TZID=America/Chicago:20200514T210000
LOCATION:
SUMMARY:Canceled! - ASO Annual Banquet
END:VEVENT
END:VCALENDAR
