BEGIN:VCALENDAR
VERSION:2.0
PRODID:-//audubon-omaha.org//NONSGML kigkonsult.se iCalcreator 2.30.10//
CALSCALE:GREGORIAN
METHOD:PUBLISH
UID:3d6ce5cc-1d8a-496c-9366-3ca573331ff7
X-WR-CALDESC:Speaker: Michelle Foss\, Land Stewardship Manager at Fontenell
 e Forest\nTopic: Habitat Restoration at Fontenelle Forest\nWhen: 7 - 9 p.m
 .\nWhere: Computer\, laptop\, tablet or phone\, in your setting of choice
 \nHow: Watch the recording on YouTube at https://youtu.be/Ob3UYcEbalo\nWho
 : Members and the public (free)\n\nThis meeting will be recorded.
X-WR-RELCALID:55d512ebf7da5db4e72e3aebe0806f80
X-WR-TIMEZONE:America/Chicago
BEGIN:VTIMEZONE
TZID:America/Chicago
BEGIN:STANDARD
TZNAME:CST
DTSTART:20191103T020000
TZOFFSETFROM:-0500
TZOFFSETTO:-0600
RDATE:20201101T020000
RDATE:20211107T020000
END:STANDARD
BEGIN:DAYLIGHT
TZNAME:CDT
DTSTART:20200308T020000
TZOFFSETFROM:-0600
TZOFFSETTO:-0500
RDATE:20210314T020000
END:DAYLIGHT
END:VTIMEZONE
BEGIN:VEVENT
UID:f3afe6a0-a87f-41a1-8e7a-457451c3a94c
DTSTAMP:20260420T155345Z
DESCRIPTION:Speaker: Michelle Foss\, Land Stewardship Manager at Fontenelle
  Forest\nTopic: Habitat Restoration at Fontenelle Forest\nWhen: 7 - 9 p.m.
 \nWhere: Computer\, laptop\, tablet or phone\, in your setting of choice\n
 How: Watch the recording on YouTube at https://youtu.be/Ob3UYcEbalo\nWho: 
 Members and the public (free)\n\nThis meeting will be recorded.
DTSTART;TZID=America/Chicago:20200910T190000
DTEND;TZID=America/Chicago:20200910T210000
LOCATION:https://youtu.be/Ob3UYcEbalo
SUMMARY:VIRTUAL Member Meeting - Habitat Restoration at Fontenelle Forest
END:VEVENT
END:VCALENDAR
