BEGIN:VCALENDAR
VERSION:2.0
PRODID:-//audubon-omaha.org//NONSGML kigkonsult.se iCalcreator 2.30.10//
CALSCALE:GREGORIAN
METHOD:PUBLISH
UID:4f79958a-1147-4633-b953-fd445a8901f4
X-WR-CALDESC:Speaker: Bob Wells\, President of Audubon Society of Omaha\nTo
 pic: Bird Feeding Basics\nWhen: 7 - 8 p.m.\nWhere: Computer\, laptop\, tab
 let or phone\, in your setting of choice.\nHow: Watch the recording on You
 Tube at https://youtu.be/fIZwGODGOtQ\nWho: Members and the public (free)\n
 \nAfter registering\, you will receive a confirmation email containing inf
 ormation about joining the meeting.
X-WR-RELCALID:dff6d977f87388b35f35f8ab9c52c53d
X-WR-TIMEZONE:America/Chicago
BEGIN:VTIMEZONE
TZID:America/Chicago
BEGIN:STANDARD
TZNAME:CST
DTSTART:20191103T020000
TZOFFSETFROM:-0500
TZOFFSETTO:-0600
RDATE:20201101T020000
RDATE:20211107T020000
END:STANDARD
BEGIN:DAYLIGHT
TZNAME:CDT
DTSTART:20200308T020000
TZOFFSETFROM:-0600
TZOFFSETTO:-0500
RDATE:20210314T020000
RDATE:20220313T020000
END:DAYLIGHT
END:VTIMEZONE
BEGIN:VEVENT
UID:a22b5776-1482-4968-a1ae-f46ed56f6014
DTSTAMP:20260423T210146Z
DESCRIPTION:Speaker: Bob Wells\, President of Audubon Society of Omaha\nTop
 ic: Bird Feeding Basics\nWhen: 7 - 8 p.m.\nWhere: Computer\, laptop\, tabl
 et or phone\, in your setting of choice.\nHow: Watch the recording on YouT
 ube at https://youtu.be/fIZwGODGOtQ\nWho: Members and the public (free)\n
 \nAfter registering\, you will receive a confirmation email containing inf
 ormation about joining the meeting.
DTSTART;TZID=America/Chicago:20201008T190000
DTEND;TZID=America/Chicago:20201008T200000
LOCATION:https://youtu.be/fIZwGODGOtQ
SUMMARY:VIRTUAL Member Meeting - Bird Feeding Basics
END:VEVENT
END:VCALENDAR
