BEGIN:VCALENDAR
VERSION:2.0
PRODID:-//audubon-omaha.org//NONSGML kigkonsult.se iCalcreator 2.30.10//
CALSCALE:GREGORIAN
METHOD:PUBLISH
UID:b682f478-36cf-46fa-9609-f55ab735aee7
X-WR-CALDESC:Speaker: Jason St. Sauver\, Audubon Nebraska\nTopic: Plants fo
 r Birds\nWhen: 7 - 8 p.m.\nWhere: Computer\, laptop\, tablet or phone\, in
  your setting of choice.\nHow: Register at 	https://us02web.zoom.us/j/89924
 472461?pwd=RmdOTzcraG50NVllU0lQc1F5SE5CUT09\nWho: Members and the public (
 free)\n\nAfter registering\, you will receive a confirmation email contain
 ing information about joining the meeting.
X-WR-RELCALID:db15f8a8c7fe302b9c26ee36860373a0
X-WR-TIMEZONE:America/Chicago
BEGIN:VTIMEZONE
TZID:America/Chicago
BEGIN:STANDARD
TZNAME:CST
DTSTART:20201101T020000
TZOFFSETFROM:-0500
TZOFFSETTO:-0600
RDATE:20211107T020000
END:STANDARD
BEGIN:DAYLIGHT
TZNAME:CDT
DTSTART:20200308T020000
TZOFFSETFROM:-0600
TZOFFSETTO:-0500
RDATE:20210314T020000
RDATE:20220313T020000
END:DAYLIGHT
END:VTIMEZONE
BEGIN:VEVENT
UID:f653d4c3-681c-4e90-a357-c03f7e0e8590
DTSTAMP:20260423T192716Z
DESCRIPTION:Speaker: Jason St. Sauver\, Audubon Nebraska\nTopic: Plants for
  Birds\nWhen: 7 - 8 p.m.\nWhere: Computer\, laptop\, tablet or phone\, in 
 your setting of choice.\nHow: Register at 	https://us02web.zoom.us/j/899244
 72461?pwd=RmdOTzcraG50NVllU0lQc1F5SE5CUT09\nWho: Members and the public (f
 ree)\n\nAfter registering\, you will receive a confirmation email containi
 ng information about joining the meeting.
DTSTART;TZID=America/Chicago:20201112T190000
DTEND;TZID=America/Chicago:20201112T200000
LOCATION:https://us02web.zoom.us/meeting/register/tZ0kde2sqTkuHNW-llyMaUyQU
 cwL9xvrUWcD
SUMMARY:VIRTUAL Member Meeting - Plants for Birds
END:VEVENT
END:VCALENDAR
