BEGIN:VCALENDAR
VERSION:2.0
PRODID:-//audubon-omaha.org//NONSGML kigkonsult.se iCalcreator 2.30.10//
CALSCALE:GREGORIAN
METHOD:PUBLISH
UID:72cf9d42-d84a-4ea1-bd4c-cafb3e7258c2
X-WR-CALDESC:Register in advance for the December Member Virtual Meeting.\n
 \nThe meeting will feature Jim Locklear\, Lauritzen Gardens’ Conservation 
 Director.  He will speak on his 10 years of experience managing Lauritzen 
 Gardens Conservation.\n\nAfter registering\, you will receive a confirmati
 on email containing information about joining the meeting.\n\nWe hope to '
 see' you there!
X-WR-RELCALID:df3bd22b368f74a8fe7f3f5392282012
X-WR-TIMEZONE:America/Chicago
BEGIN:VTIMEZONE
TZID:America/Chicago
BEGIN:STANDARD
TZNAME:CST
DTSTART:20201101T020000
TZOFFSETFROM:-0500
TZOFFSETTO:-0600
RDATE:20211107T020000
END:STANDARD
BEGIN:DAYLIGHT
TZNAME:CDT
DTSTART:20200308T020000
TZOFFSETFROM:-0600
TZOFFSETTO:-0500
RDATE:20210314T020000
RDATE:20220313T020000
END:DAYLIGHT
END:VTIMEZONE
BEGIN:VEVENT
UID:63421899-9fe7-44fb-b447-a3f70d3885e4
DTSTAMP:20260423T174745Z
DESCRIPTION:Register in advance for the December Member Virtual Meeting.\n
 \nThe meeting will feature Jim Locklear\, Lauritzen Gardens’ Conservation 
 Director.  He will speak on his 10 years of experience managing Lauritzen 
 Gardens Conservation.\n\nAfter registering\, you will receive a confirmati
 on email containing information about joining the meeting.\n\nWe hope to '
 see' you there!
DTSTART;TZID=America/Chicago:20201210T190000
DTEND;TZID=America/Chicago:20201210T200000
LOCATION:https://us02web.zoom.us/meeting/register/tZUocemgqz4uG9XNYyK_kLn5U
 HdJshmyQ6mV
SUMMARY:VIRTUAL Member Meeting: Lauritzen Garden's Conservation Director
END:VEVENT
END:VCALENDAR
