BEGIN:VCALENDAR
VERSION:2.0
PRODID:-//audubon-omaha.org//NONSGML kigkonsult.se iCalcreator 2.30.10//
CALSCALE:GREGORIAN
METHOD:PUBLISH
UID:97e48f97-1f64-427f-bb01-9d326c00f1f8
X-WR-CALDESC:Enter Audubon Society of Omaha 2021 Student Art Contest to win
  prizes for your original artwork featuring birds of the Midwest. Click on
  the link below for all the details.
X-WR-RELCALID:3ccd40b0f433508750415e8c38c925da
X-WR-TIMEZONE:America/Chicago
BEGIN:VTIMEZONE
TZID:America/Chicago
BEGIN:STANDARD
TZNAME:CST
DTSTART:20201101T020000
TZOFFSETFROM:-0500
TZOFFSETTO:-0600
RDATE:20211107T020000
END:STANDARD
BEGIN:DAYLIGHT
TZNAME:CDT
DTSTART:20200308T020000
TZOFFSETFROM:-0600
TZOFFSETTO:-0500
RDATE:20210314T020000
RDATE:20220313T020000
END:DAYLIGHT
END:VTIMEZONE
BEGIN:VEVENT
UID:12857a40-442a-4c62-b48d-5869176d5ad4
DTSTAMP:20260423T154820Z
DESCRIPTION:Enter Audubon Society of Omaha 2021 Student Art Contest to win 
 prizes for your original artwork featuring birds of the Midwest. Click on 
 the link below for all the details.
DTSTART;TZID=America/Chicago:20210104T000000
DTEND;TZID=America/Chicago:20210104T010000
LOCATION:It's time to start creating. Upload your entry starting Feb. 15 - 
 March 1.
SUMMARY:2021 Student Art Contest
END:VEVENT
END:VCALENDAR
