BEGIN:VCALENDAR
VERSION:2.0
PRODID:-//audubon-omaha.org//NONSGML kigkonsult.se iCalcreator 2.30.10//
CALSCALE:GREGORIAN
METHOD:PUBLISH
UID:c4791c0f-14cc-4106-bd08-9f63cd7bfe94
X-WR-CALDESC:You are invited to a Zoom Member Meeting -  The Great Backyard
  Bird Count.\nWhen: Jan 14\, 2021 07:00 PM Central Time (US and Canada)\n
 \nRegister in advance for this meeting:\nhttps://us02web.zoom.us/meeting/r
 egister/tZMpcemrrjojEtMk4iA1sff871p_eFWjCu9z\n\nAfter registering\, you wi
 ll receive a confirmation email containing information about joining the m
 eeting.
X-WR-RELCALID:94dc484a70b34a0b10756637f4832b33
X-WR-TIMEZONE:America/Chicago
BEGIN:VTIMEZONE
TZID:America/Chicago
BEGIN:STANDARD
TZNAME:CST
DTSTART:20201101T020000
TZOFFSETFROM:-0500
TZOFFSETTO:-0600
RDATE:20211107T020000
END:STANDARD
BEGIN:DAYLIGHT
TZNAME:CDT
DTSTART:20200308T020000
TZOFFSETFROM:-0600
TZOFFSETTO:-0500
RDATE:20210314T020000
RDATE:20220313T020000
END:DAYLIGHT
END:VTIMEZONE
BEGIN:VEVENT
UID:6e8cd089-735e-4ac4-8830-aab163f3f674
DTSTAMP:20260423T160036Z
DESCRIPTION:You are invited to a Zoom Member Meeting -  The Great Backyard 
 Bird Count.\nWhen: Jan 14\, 2021 07:00 PM Central Time (US and Canada)\n\n
 Register in advance for this meeting:\nhttps://us02web.zoom.us/meeting/reg
 ister/tZMpcemrrjojEtMk4iA1sff871p_eFWjCu9z\n\nAfter registering\, you will
  receive a confirmation email containing information about joining the mee
 ting.
DTSTART;TZID=America/Chicago:20210114T190000
DTEND;TZID=America/Chicago:20210114T200000
LOCATION:https://us02web.zoom.us/meeting/register/tZMpcemrrjojEtMk4iA1sff87
 1p_eFWjCu9z
SUMMARY:Virtual Member Meeting: Great Backyard Bird Count
END:VEVENT
END:VCALENDAR
