BEGIN:VCALENDAR
VERSION:2.0
PRODID:-//audubon-omaha.org//NONSGML kigkonsult.se iCalcreator 2.30.10//
CALSCALE:GREGORIAN
METHOD:PUBLISH
UID:d1547ce3-e991-466e-b0cd-ce730b0ac8e8
X-WR-CALDESC:For all the details\, click on the link below.
X-WR-RELCALID:be452cc3663fb9526d1dbdf799de098d
X-WR-TIMEZONE:America/Chicago
BEGIN:VTIMEZONE
TZID:America/Chicago
BEGIN:STANDARD
TZNAME:CST
DTSTART:20201101T020000
TZOFFSETFROM:-0500
TZOFFSETTO:-0600
RDATE:20211107T020000
END:STANDARD
BEGIN:DAYLIGHT
TZNAME:CDT
DTSTART:20200308T020000
TZOFFSETFROM:-0600
TZOFFSETTO:-0500
RDATE:20210314T020000
RDATE:20220313T020000
END:DAYLIGHT
END:VTIMEZONE
BEGIN:VEVENT
UID:aec25e75-9abf-4303-80e6-8562540fa483
DTSTAMP:20260423T140412Z
DESCRIPTION:For all the details\, click on the link below.
DTSTART;TZID=America/Chicago:20210215T000000
DTEND;TZID=America/Chicago:20210215T235900
LOCATION:Upload your Student Art Contest entries starting February 15 throu
 gh March 1.
SUMMARY:Student Art Contest accepting entries through March 1
END:VEVENT
END:VCALENDAR
