BEGIN:VCALENDAR
VERSION:2.0
PRODID:-//audubon-omaha.org//NONSGML kigkonsult.se iCalcreator 2.30.10//
CALSCALE:GREGORIAN
METHOD:PUBLISH
UID:5fc8275c-57de-4cca-bb8d-54cfa553bcc1
X-WR-CALDESC:Online galleries for each grade will be posted through April 3
 0.
X-WR-RELCALID:a6f4360f39218b21ddbc88f48c1856f0
X-WR-TIMEZONE:America/Chicago
BEGIN:VTIMEZONE
TZID:America/Chicago
BEGIN:STANDARD
TZNAME:CST
DTSTART:20201101T020000
TZOFFSETFROM:-0500
TZOFFSETTO:-0600
RDATE:20211107T020000
END:STANDARD
BEGIN:DAYLIGHT
TZNAME:CDT
DTSTART:20210314T020000
TZOFFSETFROM:-0600
TZOFFSETTO:-0500
RDATE:20220313T020000
END:DAYLIGHT
END:VTIMEZONE
BEGIN:VEVENT
UID:70ebf9db-b898-4d9e-86d6-a005c326c714
DTSTAMP:20260423T103746Z
DESCRIPTION:Online galleries for each grade will be posted through April 30
 .
DTSTART;TZID=America/Chicago:20210405T000000
DTEND;TZID=America/Chicago:20210405T235900
LOCATION:See all the artwork from this year's Student Art Contest.
SUMMARY:Student Art Show: Now open until April 30
END:VEVENT
END:VCALENDAR
