BEGIN:VCALENDAR
VERSION:2.0
PRODID:-//audubon-omaha.org//NONSGML kigkonsult.se iCalcreator 2.30.10//
CALSCALE:GREGORIAN
METHOD:PUBLISH
UID:23de36ca-121d-4ae1-8c27-ffe256b52eab
X-WR-CALDESC:You are invited to a Zoom meeting! Rick Schmid\, Fontenelle Fo
 rest's director of operations\, will present on the identification of spar
 rows. Tips will be provided to help distinguish confusing\, look-alike spe
 cies.\n\nWhen: Oct. 14\, 2021 07:00 PM Central Time (US and Canada) \n\nRe
 gister in advance for this meeting:\nhttps://us02web.zoom.us/meeting/regis
 ter/tZYodeytrj4pHtKFHvGP4qQGzwYYHVi4meMi
X-WR-RELCALID:e2afc435486ccc20eb75d58451d22b86
X-WR-TIMEZONE:America/Chicago
BEGIN:VTIMEZONE
TZID:America/Chicago
BEGIN:STANDARD
TZNAME:CST
DTSTART:20201101T020000
TZOFFSETFROM:-0500
TZOFFSETTO:-0600
RDATE:20211107T020000
RDATE:20221106T020000
END:STANDARD
BEGIN:DAYLIGHT
TZNAME:CDT
DTSTART:20210314T020000
TZOFFSETFROM:-0600
TZOFFSETTO:-0500
RDATE:20220313T020000
RDATE:20230312T020000
END:DAYLIGHT
END:VTIMEZONE
BEGIN:VEVENT
UID:2b73eab7-deca-47f1-9746-8e095ac474e5
DTSTAMP:20260421T101412Z
DESCRIPTION:You are invited to a Zoom meeting! Rick Schmid\, Fontenelle For
 est's director of operations\, will present on the identification of sparr
 ows. Tips will be provided to help distinguish confusing\, look-alike spec
 ies.\n\nWhen: Oct. 14\, 2021 07:00 PM Central Time (US and Canada) \n\nReg
 ister in advance for this meeting:\nhttps://us02web.zoom.us/meeting/regist
 er/tZYodeytrj4pHtKFHvGP4qQGzwYYHVi4meMi
DTSTART;TZID=America/Chicago:20211014T190000
DTEND;TZID=America/Chicago:20211014T200000
LOCATION:https://us02web.zoom.us/meeting/register/tZYodeytrj4pHtKFHvGP4qQGz
 wYYHVi4meMi
SUMMARY:Virtual Member Event: Sparrow Identification
END:VEVENT
END:VCALENDAR
