BEGIN:VCALENDAR
VERSION:2.0
PRODID:-//audubon-omaha.org//NONSGML kigkonsult.se iCalcreator 2.30.10//
CALSCALE:GREGORIAN
METHOD:PUBLISH
UID:79545195-296e-4c9f-8116-1de540cfbf9a
X-WR-CALDESC:Join us at 9 a.m. on Saturday\, Oct. 16\, to chase sparrows at
  the Gilbert M. and Martha H. Hitchcock Wetlands. Scott Bradley will lead 
 the birding expedition for 1-2 hours. We strongly recommend bringing binoc
 ulars. If desired\, pack a field guide\, camera\, and/or sketch pad. Regis
 tration is not required.
X-WR-RELCALID:58017789548fa6b66cc8c5310ca36b71
X-WR-TIMEZONE:America/Chicago
BEGIN:VTIMEZONE
TZID:America/Chicago
BEGIN:STANDARD
TZNAME:CST
DTSTART:20201101T020000
TZOFFSETFROM:-0500
TZOFFSETTO:-0600
RDATE:20211107T020000
RDATE:20221106T020000
END:STANDARD
BEGIN:DAYLIGHT
TZNAME:CDT
DTSTART:20210314T020000
TZOFFSETFROM:-0600
TZOFFSETTO:-0500
RDATE:20220313T020000
RDATE:20230312T020000
END:DAYLIGHT
END:VTIMEZONE
BEGIN:VEVENT
UID:ccbd2698-4dd3-4bcf-8f9d-c4e3e3696196
DTSTAMP:20260423T103406Z
DESCRIPTION:Join us at 9 a.m. on Saturday\, Oct. 16\, to chase sparrows at 
 the Gilbert M. and Martha H. Hitchcock Wetlands. Scott Bradley will lead t
 he birding expedition for 1-2 hours. We strongly recommend bringing binocu
 lars. If desired\, pack a field guide\, camera\, and/or sketch pad. Regist
 ration is not required.
DTSTART;TZID=America/Chicago:20211016T090000
DTEND;TZID=America/Chicago:20211016T110000
LOCATION:695 Camp Gifford Road\, Bellevue\, NE 68005 US
SUMMARY:Field Trip: Birding at Fontenelle Forest Wetlands
END:VEVENT
END:VCALENDAR
