BEGIN:VCALENDAR
VERSION:2.0
PRODID:-//audubon-omaha.org//NONSGML kigkonsult.se iCalcreator 2.30.10//
CALSCALE:GREGORIAN
METHOD:PUBLISH
UID:6480f9b2-f322-4b95-b40a-186ffd53debb
X-WR-CALDESC:Join us via Zoom for 'Fat and the migration south for songbird
 s through eastern Nebraska\,' a presentation by Stephen Brenner\, a non-ga
 me bird biologist with Nebraska Game and Parks Commission.\n\nWhen: Dec. 9
 \, 2021 07:00 PM Central Time (US and Canada) \n\nRegister in advance for 
 this meeting:\nhttps://us02web.zoom.us/meeting/register/tZcldOGgqTovHtJ65S
 R4i3P8iecphk0kMQog
X-WR-RELCALID:968385579ae874c9aa9ddc2365277afe
X-WR-TIMEZONE:America/Chicago
BEGIN:VTIMEZONE
TZID:America/Chicago
BEGIN:STANDARD
TZNAME:CST
DTSTART:20211107T020000
TZOFFSETFROM:-0500
TZOFFSETTO:-0600
RDATE:20221106T020000
END:STANDARD
BEGIN:DAYLIGHT
TZNAME:CDT
DTSTART:20210314T020000
TZOFFSETFROM:-0600
TZOFFSETTO:-0500
RDATE:20220313T020000
RDATE:20230312T020000
END:DAYLIGHT
END:VTIMEZONE
BEGIN:VEVENT
UID:ae62e1f4-2f39-47a5-bdc7-693092254acf
DTSTAMP:20260421T115604Z
DESCRIPTION:Join us via Zoom for 'Fat and the migration south for songbirds
  through eastern Nebraska\,' a presentation by Stephen Brenner\, a non-gam
 e bird biologist with Nebraska Game and Parks Commission.\n\nWhen: Dec. 9\
 , 2021 07:00 PM Central Time (US and Canada) \n\nRegister in advance for t
 his meeting:\nhttps://us02web.zoom.us/meeting/register/tZcldOGgqTovHtJ65SR
 4i3P8iecphk0kMQog
DTSTART;TZID=America/Chicago:20211209T190000
DTEND;TZID=America/Chicago:20211209T200000
LOCATION:https://us02web.zoom.us/meeting/register/tZcldOGgqTovHtJ65SR4i3P8i
 ecphk0kMQog
SUMMARY:Virtual Member Event: Fat and the migration south for songbirds thr
 ough eastern Nebraska
END:VEVENT
END:VCALENDAR
