BEGIN:VCALENDAR
VERSION:2.0
PRODID:-//audubon-omaha.org//NONSGML kigkonsult.se iCalcreator 2.30.10//
CALSCALE:GREGORIAN
METHOD:PUBLISH
UID:75917f3c-cfc7-4f7c-859e-b70593c6e4bf
X-WR-CALDESC:Winter 2022 Bird Seed Sale – Better get clicking! \n\nRunning 
 low on bird seed? Want to help your feathered friends through spring migra
 tion?\nStarting January 5\, stock up on seed at Audubon Society of Omaha’s
  Winter Bird Seed Sale. Here’s the scoop: If you have ordered seed from us
  in the past – and have provided us your email address– we will email you 
 an order form by January 5. As usual\, we don’t mail physical forms for th
 e Winter Sale.\nYou can order two ways: \n1. Mail us your completed order 
 form available on the website with payment\n2. Order online at our website
  at audubon-omaha.org using a credit or debit card\nALL ORDERS ARE DUE FEB
 RUARY 10 	\nYour order will be ready for pick up on Sat.\, February 19 from
  9 a.m.–5 p.m. at ASO’s office and warehouse at \n4339 S. 90th Street in O
 maha. 	\nIf you have questions\, OR would like to volunteer for this import
 ant fundraiser\, call John or Betty Fullerton at 402-493-4362 or 402-957-5
 901. If you need us to email an order form to you\, please email efullerto
 n00@gmail.com.\n
X-WR-RELCALID:1c98754042d805cbeef2eb05e683f3d8
X-WR-TIMEZONE:America/Chicago
BEGIN:VTIMEZONE
TZID:America/Chicago
BEGIN:STANDARD
TZNAME:CST
DTSTART:20211107T020000
TZOFFSETFROM:-0500
TZOFFSETTO:-0600
RDATE:20221106T020000
END:STANDARD
BEGIN:DAYLIGHT
TZNAME:CDT
DTSTART:20210314T020000
TZOFFSETFROM:-0600
TZOFFSETTO:-0500
RDATE:20220313T020000
RDATE:20230312T020000
END:DAYLIGHT
END:VTIMEZONE
BEGIN:VEVENT
UID:4ac306cc-6bc0-40a0-965f-f3c029e3846d
DTSTAMP:20260421T083857Z
DESCRIPTION:Winter 2022 Bird Seed Sale – Better get clicking! \n\nRunning l
 ow on bird seed? Want to help your feathered friends through spring migrat
 ion?\nStarting January 5\, stock up on seed at Audubon Society of Omaha’s 
 Winter Bird Seed Sale. Here’s the scoop: If you have ordered seed from us 
 in the past – and have provided us your email address– we will email you a
 n order form by January 5. As usual\, we don’t mail physical forms for the
  Winter Sale.\nYou can order two ways: \n1. Mail us your completed order f
 orm available on the website with payment\n2. Order online at our website 
 at audubon-omaha.org using a credit or debit card\nALL ORDERS ARE DUE FEBR
 UARY 10 	\nYour order will be ready for pick up on Sat.\, February 19 from 
 9 a.m.–5 p.m. at ASO’s office and warehouse at \n4339 S. 90th Street in Om
 aha. 	\nIf you have questions\, OR would like to volunteer for this importa
 nt fundraiser\, call John or Betty Fullerton at 402-493-4362 or 402-957-59
 01. If you need us to email an order form to you\, please email efullerton
 00@gmail.com.\n
DTSTART;TZID=America/Chicago:20220105T080000
DTEND;TZID=America/Chicago:20220209T233000
LOCATION:
SUMMARY:Winter 2022 Bird Seed Sale
END:VEVENT
END:VCALENDAR
