BEGIN:VCALENDAR
VERSION:2.0
PRODID:-//audubon-omaha.org//NONSGML kigkonsult.se iCalcreator 2.30.10//
CALSCALE:GREGORIAN
METHOD:PUBLISH
UID:516539f7-2777-4065-b417-8a82914e07ec
X-WR-CALDESC:
X-WR-RELCALID:500eab0efab2f1d1400fc6d2c09635e0
X-WR-TIMEZONE:America/Chicago
BEGIN:VTIMEZONE
TZID:America/Chicago
BEGIN:STANDARD
TZNAME:CST
DTSTART:20211107T020000
TZOFFSETFROM:-0500
TZOFFSETTO:-0600
RDATE:20221106T020000
END:STANDARD
BEGIN:DAYLIGHT
TZNAME:CDT
DTSTART:20210314T020000
TZOFFSETFROM:-0600
TZOFFSETTO:-0500
RDATE:20220313T020000
RDATE:20230312T020000
END:DAYLIGHT
END:VTIMEZONE
BEGIN:VEVENT
UID:e253e4ac-9629-47b4-a324-28be2f3035f8
DTSTAMP:20260421T083857Z
DESCRIPTION:
DTSTART;TZID=America/Chicago:20220210T000000
DTEND;TZID=America/Chicago:20220210T235900
LOCATION:https://audubon-omaha.org/seed-sale-order.html
SUMMARY:FINAL day to order bird seed
END:VEVENT
END:VCALENDAR
