BEGIN:VCALENDAR
VERSION:2.0
PRODID:-//audubon-omaha.org//NONSGML kigkonsult.se iCalcreator 2.30.10//
CALSCALE:GREGORIAN
METHOD:PUBLISH
UID:5c05202a-5a87-45f8-941f-c2f3a2592d26
X-WR-CALDESC:
X-WR-RELCALID:e2c090fb96288d9956bf32236521bce7
X-WR-TIMEZONE:America/Chicago
BEGIN:VTIMEZONE
TZID:America/Chicago
BEGIN:STANDARD
TZNAME:CST
DTSTART:20211107T020000
TZOFFSETFROM:-0500
TZOFFSETTO:-0600
RDATE:20221106T020000
END:STANDARD
BEGIN:DAYLIGHT
TZNAME:CDT
DTSTART:20210314T020000
TZOFFSETFROM:-0600
TZOFFSETTO:-0500
RDATE:20220313T020000
RDATE:20230312T020000
END:DAYLIGHT
END:VTIMEZONE
BEGIN:VEVENT
UID:e8993835-8ab5-4dd0-8e5b-146f0a69e8ca
DTSTAMP:20260421T084157Z
DESCRIPTION:
DTSTART;TZID=America/Chicago:20220219T090000
DTEND;TZID=America/Chicago:20220219T170000
LOCATION:4339 South 90th St (between F St. and L St.) \, Omaha\, NE 68127 U
 S
SUMMARY:Bird Seed Order Pickup
END:VEVENT
END:VCALENDAR
