BEGIN:VCALENDAR
VERSION:2.0
PRODID:-//audubon-omaha.org//NONSGML kigkonsult.se iCalcreator 2.30.10//
CALSCALE:GREGORIAN
METHOD:PUBLISH
UID:16900f46-4ba8-4079-bb4c-c5109b97b2a6
X-WR-CALDESC:Let's meet at ASO office parking lot at 4339 S. 90th St and we
 ’ll determine the best location to search for returning waterfowl. We will
  drive to the chosen location at that time.\n
X-WR-RELCALID:c781af4b8636964babf1c9750cee73dd
X-WR-TIMEZONE:America/Chicago
BEGIN:VTIMEZONE
TZID:America/Chicago
BEGIN:STANDARD
TZNAME:CST
DTSTART:20211107T020000
TZOFFSETFROM:-0500
TZOFFSETTO:-0600
RDATE:20221106T020000
END:STANDARD
BEGIN:DAYLIGHT
TZNAME:CDT
DTSTART:20210314T020000
TZOFFSETFROM:-0600
TZOFFSETTO:-0500
RDATE:20220313T020000
RDATE:20230312T020000
END:DAYLIGHT
END:VTIMEZONE
BEGIN:VEVENT
UID:29e59b06-ca5f-418d-9088-9e7343f2bdad
DTSTAMP:20260421T084045Z
DESCRIPTION:Let's meet at ASO office parking lot at 4339 S. 90th St and we’
 ll determine the best location to search for returning waterfowl. We will 
 drive to the chosen location at that time.\n
DTSTART;TZID=America/Chicago:20220226T080000
DTEND;TZID=America/Chicago:20220226T123000
LOCATION:Audubon Society of Omaha\, 4339 S. 90th St.\, Omaha NE
SUMMARY:Field Trip: Returning Waterfowl
END:VEVENT
END:VCALENDAR
