BEGIN:VCALENDAR
VERSION:2.0
PRODID:-//audubon-omaha.org//NONSGML kigkonsult.se iCalcreator 2.30.10//
CALSCALE:GREGORIAN
METHOD:PUBLISH
UID:9af36da7-c5ab-44b0-9408-e09a92a3ccd1
X-WR-CALDESC:From Spring Creek Prairie Audubon Center:\n\nOur annual fundra
 iser is fast approaching!\nCome for special announcements as we celebratio
 n our past\, present\, and future on our 25th anniversary. We will have pr
 airie-inspired drinks and appetizers\, a gourmet buffet meal\, live auctio
 n\, and a new sunset wagon ride.\nRegistration now open through September 
 7.
X-WR-RELCALID:8c71dd8bee43eba15231e88a5b94f6c3
X-WR-TIMEZONE:America/Chicago
BEGIN:VTIMEZONE
TZID:America/Chicago
BEGIN:STANDARD
TZNAME:CST
DTSTART:20221106T020000
TZOFFSETFROM:-0500
TZOFFSETTO:-0600
RDATE:20231105T020000
RDATE:20241103T020000
END:STANDARD
BEGIN:DAYLIGHT
TZNAME:CDT
DTSTART:20230312T020000
TZOFFSETFROM:-0600
TZOFFSETTO:-0500
RDATE:20240310T020000
RDATE:20250309T020000
END:DAYLIGHT
END:VTIMEZONE
BEGIN:VEVENT
UID:9a0ccb6f-678a-4bf4-95c4-a92438495091
DTSTAMP:20260423T090903Z
DESCRIPTION:From Spring Creek Prairie Audubon Center:\n\nOur annual fundrai
 ser is fast approaching!\nCome for special announcements as we celebration
  our past\, present\, and future on our 25th anniversary. We will have pra
 irie-inspired drinks and appetizers\, a gourmet buffet meal\, live auction
 \, and a new sunset wagon ride.\nRegistration now open through September 7
 .
DTSTART;TZID=America/Chicago:20230917T160000
DTEND;TZID=America/Chicago:20230917T190000
LOCATION:Spring Creek Prairie Audubon Center - Denton\, NE
SUMMARY:Tastes in the Tallgrass at Spring Creek Prairie
END:VEVENT
END:VCALENDAR
